BEGIN:VCALENDAR
VERSION:2.0
PRODID:-//McHenry Alano Club - ECPv6.15.17.1//NONSGML v1.0//EN
CALSCALE:GREGORIAN
METHOD:PUBLISH
X-ORIGINAL-URL:https://www.mchenryalano.com
X-WR-CALDESC:Events for McHenry Alano Club
REFRESH-INTERVAL;VALUE=DURATION:PT1H
X-Robots-Tag:noindex
X-PUBLISHED-TTL:PT1H
BEGIN:VTIMEZONE
TZID:America/Chicago
BEGIN:DAYLIGHT
TZOFFSETFROM:-0600
TZOFFSETTO:-0500
TZNAME:CDT
DTSTART:20220313T080000
END:DAYLIGHT
BEGIN:STANDARD
TZOFFSETFROM:-0500
TZOFFSETTO:-0600
TZNAME:CST
DTSTART:20221106T070000
END:STANDARD
BEGIN:DAYLIGHT
TZOFFSETFROM:-0600
TZOFFSETTO:-0500
TZNAME:CDT
DTSTART:20230312T080000
END:DAYLIGHT
BEGIN:STANDARD
TZOFFSETFROM:-0500
TZOFFSETTO:-0600
TZNAME:CST
DTSTART:20231105T070000
END:STANDARD
BEGIN:DAYLIGHT
TZOFFSETFROM:-0600
TZOFFSETTO:-0500
TZNAME:CDT
DTSTART:20240310T080000
END:DAYLIGHT
BEGIN:STANDARD
TZOFFSETFROM:-0500
TZOFFSETTO:-0600
TZNAME:CST
DTSTART:20241103T070000
END:STANDARD
BEGIN:DAYLIGHT
TZOFFSETFROM:-0600
TZOFFSETTO:-0500
TZNAME:CDT
DTSTART:20250309T080000
END:DAYLIGHT
BEGIN:STANDARD
TZOFFSETFROM:-0500
TZOFFSETTO:-0600
TZNAME:CST
DTSTART:20251102T070000
END:STANDARD
BEGIN:DAYLIGHT
TZOFFSETFROM:-0600
TZOFFSETTO:-0500
TZNAME:CDT
DTSTART:20260308T080000
END:DAYLIGHT
BEGIN:STANDARD
TZOFFSETFROM:-0500
TZOFFSETTO:-0600
TZNAME:CST
DTSTART:20261101T070000
END:STANDARD
BEGIN:DAYLIGHT
TZOFFSETFROM:-0600
TZOFFSETTO:-0500
TZNAME:CDT
DTSTART:20270314T080000
END:DAYLIGHT
BEGIN:STANDARD
TZOFFSETFROM:-0500
TZOFFSETTO:-0600
TZNAME:CST
DTSTART:20271107T070000
END:STANDARD
END:VTIMEZONE
BEGIN:VEVENT
DTSTART;TZID=America/Chicago:20251231T170000
DTEND;TZID=America/Chicago:20260101T000000
DTSTAMP:20260420T083135
CREATED:20251021T154550Z
LAST-MODIFIED:20251215T152401Z
UID:1727-1767200400-1767225600@www.mchenryalano.com
SUMMARY:New Year's Eve Party - December 31\, 2025
DESCRIPTION:First Things First Saturday 8am Morning Meeting Hosts \n2026 New Year’s Eve Bash \nMeetings at 5:30 and 8pm \nBrings a dish to pass \nLive music begins at 9:30! \nThis is a FREE event! \n 
URL:https://www.mchenryalano.com/event/new-years-eve-party-december-31-2025/
LOCATION:McHenry Alano Club\, 409 Front St\, McHenry\, IL\, 60050\, United States
CATEGORIES:Event
ATTACH;FMTTYPE=image/png:https://www.mchenryalano.com/wp-content/uploads/2025/10/2025-new-years-eve-party-mac.png
END:VEVENT
BEGIN:VEVENT
DTSTART;TZID=America/Chicago:20251109T140000
DTEND;TZID=America/Chicago:20251109T170000
DTSTAMP:20260420T083135
CREATED:20251021T154313Z
LAST-MODIFIED:20251021T154338Z
UID:1725-1762696800-1762707600@www.mchenryalano.com
SUMMARY:Soulsgiving - November 9\, 2025
DESCRIPTION:The RECOVERED SOULS PRESENTS \nSOULSGIVING \nJoin us for an afternoon of family\, food\, fellowship & fun!
URL:https://www.mchenryalano.com/event/soulsgiving-november-9-2025/
LOCATION:McHenry Alano Club\, 409 Front St\, McHenry\, IL\, 60050\, United States
CATEGORIES:Event
ATTACH;FMTTYPE=image/jpeg:https://www.mchenryalano.com/wp-content/uploads/2025/10/Soulsgiving-Flyer-2025.jpeg
END:VEVENT
BEGIN:VEVENT
DTSTART;TZID=America/Chicago:20250914T080000
DTEND;TZID=America/Chicago:20250914T110000
DTSTAMP:20260420T083135
CREATED:20250630T174528Z
LAST-MODIFIED:20250630T174553Z
UID:1715-1757836800-1757847600@www.mchenryalano.com
SUMMARY:Breakfast at the MAC – September 14\, 2025
DESCRIPTION:
URL:https://www.mchenryalano.com/event/breakfast-at-the-mac-september-14-2025/
LOCATION:McHenry Alano Club\, 409 Front St\, McHenry\, IL\, 60050\, United States
CATEGORIES:Fundraiser
ATTACH;FMTTYPE=image/jpeg:https://www.mchenryalano.com/wp-content/uploads/2025/06/Breakfast-Sept-2025-Flyer-Website-scaled.jpg
END:VEVENT
BEGIN:VEVENT
DTSTART;TZID=America/Chicago:20250727T123000
DTEND;TZID=America/Chicago:20250727T160000
DTSTAMP:20260420T083135
CREATED:20250701T131646Z
LAST-MODIFIED:20250701T131646Z
UID:1720-1753619400-1753632000@www.mchenryalano.com
SUMMARY:Summer Picnic - July 27\, 2025
DESCRIPTION:
URL:https://www.mchenryalano.com/event/summer-picnic-july-27-2025/
LOCATION:McHenry Alano Club\, 409 Front St\, McHenry\, IL\, 60050\, United States
CATEGORIES:Event
ATTACH;FMTTYPE=image/jpeg:https://www.mchenryalano.com/wp-content/uploads/2025/07/picnic-bulletion-board-mini-poster-public-promotion-2025.jpg
END:VEVENT
BEGIN:VEVENT
DTSTART;TZID=America/Chicago:20250710T180000
DTEND;TZID=America/Chicago:20250710T190000
DTSTAMP:20260420T083135
CREATED:20250630T174903Z
LAST-MODIFIED:20250630T174937Z
UID:1717-1752170400-1752174000@www.mchenryalano.com
SUMMARY:Semi-Annual Open Board Meeting -July 10\, 2025
DESCRIPTION:
URL:https://www.mchenryalano.com/event/semi-annual-open-board-meeting-july-10-2025/
LOCATION:McHenry Alano Club\, 409 Front St\, McHenry\, IL\, 60050\, United States
CATEGORIES:Event
ATTACH;FMTTYPE=image/jpeg:https://www.mchenryalano.com/wp-content/uploads/2025/06/Election-Notice-Website.jpg
END:VEVENT
BEGIN:VEVENT
DTSTART;TZID=America/Chicago:20250426T110000
DTEND;TZID=America/Chicago:20250426T130000
DTSTAMP:20260420T083135
CREATED:20250224T163509Z
LAST-MODIFIED:20250331T132820Z
UID:1707-1745665200-1745672400@www.mchenryalano.com
SUMMARY:Spring Cleaning - April 26\, 2025
DESCRIPTION: 
URL:https://www.mchenryalano.com/event/spring-cleaning-april-26-2025/
LOCATION:McHenry Alano Club\, 409 Front St\, McHenry\, IL\, 60050\, United States
CATEGORIES:Event
ATTACH;FMTTYPE=image/jpeg:https://www.mchenryalano.com/wp-content/uploads/2025/02/Give-Back-To-The-MAC-flyer-2025.jpg
END:VEVENT
BEGIN:VEVENT
DTSTART;TZID=America/Chicago:20250309T080000
DTEND;TZID=America/Chicago:20250309T110000
DTSTAMP:20260420T083135
CREATED:20250224T163240Z
LAST-MODIFIED:20250224T163240Z
UID:1705-1741507200-1741518000@www.mchenryalano.com
SUMMARY:Breakfast at the MAC – March 9\, 2025
DESCRIPTION: 
URL:https://www.mchenryalano.com/event/breakfast-at-the-mac-march-9-2025/
LOCATION:McHenry Alano Club\, 409 Front St\, McHenry\, IL\, 60050\, United States
CATEGORIES:Fundraiser
ATTACH;FMTTYPE=image/jpeg:https://www.mchenryalano.com/wp-content/uploads/2025/02/breakfast-at-the-mac.jpg
END:VEVENT
BEGIN:VEVENT
DTSTART;TZID=America/Chicago:20250209T160000
DTEND;TZID=America/Chicago:20250209T210000
DTSTAMP:20260420T083135
CREATED:20241230T143607Z
LAST-MODIFIED:20250127T161119Z
UID:1696-1739116800-1739134800@www.mchenryalano.com
SUMMARY:Super Bowl at the MAC - February 9\, 2025
DESCRIPTION:
URL:https://www.mchenryalano.com/event/super-bowl-at-the-mac-february-9-2025/
LOCATION:McHenry Alano Club\, 409 Front St\, McHenry\, IL\, 60050\, United States
CATEGORIES:Event
ATTACH;FMTTYPE=image/jpeg:https://www.mchenryalano.com/wp-content/uploads/2024/12/Super-Bowl-Flyer-Website.jpg
END:VEVENT
BEGIN:VEVENT
DTSTART;TZID=America/Chicago:20250112T080000
DTEND;TZID=America/Chicago:20250112T110000
DTSTAMP:20260420T083135
CREATED:20241230T143145Z
LAST-MODIFIED:20241230T143145Z
UID:1692-1736668800-1736679600@www.mchenryalano.com
SUMMARY:Breakfast at the MAC - January 12\, 2025
DESCRIPTION:January 12th @ 8:00 am – 11:00 am\nBreakfast at the MAC\nMcHenry Alano Club 409 Front St\, McHenry\, IL\, United States
URL:https://www.mchenryalano.com/event/breakfast-at-the-mac-january-12-2025/
LOCATION:McHenry Alano Club\, 409 Front St\, McHenry\, IL\, 60050\, United States
CATEGORIES:Fundraiser
END:VEVENT
BEGIN:VEVENT
DTSTART;TZID=America/Chicago:20250109T180000
DTEND;TZID=America/Chicago:20250109T190000
DTSTAMP:20260420T083135
CREATED:20241230T143358Z
LAST-MODIFIED:20241230T143358Z
UID:1693-1736445600-1736449200@www.mchenryalano.com
SUMMARY:Semi-Annual Open Board Meeting - January 9\, 2025
DESCRIPTION:
URL:https://www.mchenryalano.com/event/semi-annual-open-board-meeting-january-9-2025/
LOCATION:McHenry Alano Club\, 409 Front St\, McHenry\, IL\, 60050\, United States
CATEGORIES:Event
ATTACH;FMTTYPE=image/jpeg:https://www.mchenryalano.com/wp-content/uploads/2024/12/Semi-Annual-Mtg-Notice-January-2025.jpg
END:VEVENT
BEGIN:VEVENT
DTSTART;TZID=America/Chicago:20241231T170000
DTEND;TZID=America/Chicago:20250101T010000
DTSTAMP:20260420T083135
CREATED:20241010T205539Z
LAST-MODIFIED:20241209T151657Z
UID:1683-1735664400-1735693200@www.mchenryalano.com
SUMMARY:New Year's Eve Party and Alcathon - December 31\, 2024
DESCRIPTION: 
URL:https://www.mchenryalano.com/event/new-years-eve-party-and-alcathon-december-31-2024/
LOCATION:McHenry Alano Club\, 409 Front St\, McHenry\, IL\, 60050\, United States
CATEGORIES:Event
ATTACH;FMTTYPE=image/png:https://www.mchenryalano.com/wp-content/uploads/2024/10/MAC-2024-NYE.png
END:VEVENT
BEGIN:VEVENT
DTSTART;TZID=America/Chicago:20241117T113000
DTEND;TZID=America/Chicago:20241117T153000
DTSTAMP:20260420T083135
CREATED:20241010T204938Z
LAST-MODIFIED:20241113T223033Z
UID:1682-1731843000-1731857400@www.mchenryalano.com
SUMMARY:Football Potluck & Chili Cook-Off - November 17\, 2024
DESCRIPTION:Chicago Bears VS Green Bay Packers! \n 
URL:https://www.mchenryalano.com/event/tailgate-party-at-the-mac-november-17-2024/
LOCATION:McHenry Alano Club\, 409 Front St\, McHenry\, IL\, 60050\, United States
CATEGORIES:Event
ATTACH;FMTTYPE=image/jpeg:https://www.mchenryalano.com/wp-content/uploads/2024/10/Football-Potluck-Cook-Off-Flyer-V3-website.jpg
END:VEVENT
BEGIN:VEVENT
DTSTART;TZID=America/Chicago:20241013T080000
DTEND;TZID=America/Chicago:20241013T110000
DTSTAMP:20260420T083135
CREATED:20241010T204741Z
LAST-MODIFIED:20241010T204741Z
UID:1680-1728806400-1728817200@www.mchenryalano.com
SUMMARY:Breakfast at the MAC - October 13\, 2024
DESCRIPTION:
URL:https://www.mchenryalano.com/event/breakfast-at-the-mac-october-13-2024/
LOCATION:McHenry Alano Club\, 409 Front St\, McHenry\, IL\, 60050\, United States
CATEGORIES:Fundraiser
ATTACH;FMTTYPE=image/jpeg:https://www.mchenryalano.com/wp-content/uploads/2022/11/breakfast-at-the-mac-1.jpg
END:VEVENT
BEGIN:VEVENT
DTSTART;TZID=America/Chicago:20240811T080000
DTEND;TZID=America/Chicago:20240811T110000
DTSTAMP:20260420T083135
CREATED:20240712T205947Z
LAST-MODIFIED:20240712T205947Z
UID:1676-1723363200-1723374000@www.mchenryalano.com
SUMMARY:Breakfast at the MAC - August 11\, 2024
DESCRIPTION:
URL:https://www.mchenryalano.com/event/breakfast-at-the-mac-august-11-2024/
LOCATION:McHenry Alano Club\, 409 Front St\, McHenry\, IL\, 60050\, United States
CATEGORIES:Fundraiser
ATTACH;FMTTYPE=image/jpeg:https://www.mchenryalano.com/wp-content/uploads/2022/11/breakfast-at-the-mac-1.jpg
END:VEVENT
BEGIN:VEVENT
DTSTART;TZID=America/Chicago:20240728T123000
DTEND;TZID=America/Chicago:20240728T160000
DTSTAMP:20260420T083135
CREATED:20240326T132533Z
LAST-MODIFIED:20240710T140552Z
UID:1666-1722169800-1722182400@www.mchenryalano.com
SUMMARY:Summer Picnic - July 28\, 2024
DESCRIPTION:Annual MAC Picnic! \nDate: Sunday\, July 28th Time: 12:30 – 4 pm \nWhere: McHenry Alano Club \nPotluck Picnic – bring a dish \nHot dogs & Hamburgers provided \n½ yr Membership Sign-up for only $45 (New members only) \nDJ Music \nPrize Wheel\, 50/50\, Melting Pot Raffle\, Bags Tournament \nLet’s celebrate summer & have some food\, fun & fellowship!! \nWE NEED VOLUNTEERS – Please consider helping with opportunities before\, during or after the picnic! \nFor more information contact: Call Cristie H. at 815-719-0763 or email harrteam@gmail.com \nThe Alano Club of McHenry is a social club for people interested in addiction recovery. The club’s primary purpose is to provide a private\, comfortable space for meetings of 12-step recovery groups.
URL:https://www.mchenryalano.com/event/summer-picnic-july-28-2024/
LOCATION:McHenry Alano Club\, 409 Front St\, McHenry\, IL\, 60050\, United States
CATEGORIES:Fundraiser
ATTACH;FMTTYPE=image/jpeg:https://www.mchenryalano.com/wp-content/uploads/2023/03/picnic.jpg
END:VEVENT
BEGIN:VEVENT
DTSTART;TZID=America/Chicago:20240310T080000
DTEND;TZID=America/Chicago:20240310T110000
DTSTAMP:20260420T083135
CREATED:20240215T154813Z
LAST-MODIFIED:20240215T154813Z
UID:1656-1710057600-1710068400@www.mchenryalano.com
SUMMARY:Breakfast at the MAC
DESCRIPTION:
URL:https://www.mchenryalano.com/event/breakfast-at-the-mac-5/
LOCATION:McHenry Alano Club\, 409 Front St\, McHenry\, IL\, 60050\, United States
CATEGORIES:Fundraiser
ATTACH;FMTTYPE=image/jpeg:https://www.mchenryalano.com/wp-content/uploads/2022/11/breakfast-at-the-mac-1.jpg
END:VEVENT
BEGIN:VEVENT
DTSTART;TZID=America/Chicago:20240606T090000
DTEND;TZID=America/Chicago:20240606T140000
DTSTAMP:20260420T083135
CREATED:20240326T132257Z
LAST-MODIFIED:20240326T132257Z
UID:1663-1717664400-1717682400@www.mchenryalano.com
SUMMARY:Keep Coming Back Annual Plant Sale
DESCRIPTION:Perennial plants for sale! \nThursday June 6th – Saturday June 8th \n9am-2pm \n125 S Williams St\nCrystal Lake \nFor further info\, contact 815-455-2946
URL:https://www.mchenryalano.com/event/keep-coming-back-annual-plant-sale/
LOCATION:Plant Sale\, 125 S Williams St\, Crystal Lake\, IL\, 60014\, United States
CATEGORIES:Fundraiser
ATTACH;FMTTYPE=image/jpeg:https://www.mchenryalano.com/wp-content/uploads/2024/03/mixed-annual-perennial-border-garden-bed.jpg_s1024x1024wisk20cLU1FH9lzfHLzVt5.jpg
END:VEVENT
BEGIN:VEVENT
DTSTART;TZID=America/Chicago:20240606T090000
DTEND;TZID=America/Chicago:20240606T140000
DTSTAMP:20260420T083135
CREATED:20240326T132257Z
LAST-MODIFIED:20240326T132257Z
UID:1663-1717664400-1717682400@www.mchenryalano.com
SUMMARY:Keep Coming Back Annual Plant Sale
DESCRIPTION:Perennial plants for sale! \nThursday June 6th – Saturday June 8th \n9am-2pm \n125 S Williams St\nCrystal Lake \nFor further info\, contact 815-455-2946
URL:https://www.mchenryalano.com/event/keep-coming-back-annual-plant-sale/
LOCATION:Plant Sale\, 125 S Williams St\, Crystal Lake\, IL\, 60014\, United States
CATEGORIES:Fundraiser
ATTACH;FMTTYPE=image/jpeg:https://www.mchenryalano.com/wp-content/uploads/2024/03/mixed-annual-perennial-border-garden-bed.jpg_s1024x1024wisk20cLU1FH9lzfHLzVt5.jpg
END:VEVENT
BEGIN:VEVENT
DTSTART;TZID=America/Chicago:20240606T090000
DTEND;TZID=America/Chicago:20240606T140000
DTSTAMP:20260420T083135
CREATED:20240326T132257Z
LAST-MODIFIED:20240326T132257Z
UID:1663-1717664400-1717682400@www.mchenryalano.com
SUMMARY:Keep Coming Back Annual Plant Sale
DESCRIPTION:Perennial plants for sale! \nThursday June 6th – Saturday June 8th \n9am-2pm \n125 S Williams St\nCrystal Lake \nFor further info\, contact 815-455-2946
URL:https://www.mchenryalano.com/event/keep-coming-back-annual-plant-sale/
LOCATION:Plant Sale\, 125 S Williams St\, Crystal Lake\, IL\, 60014\, United States
CATEGORIES:Fundraiser
ATTACH;FMTTYPE=image/jpeg:https://www.mchenryalano.com/wp-content/uploads/2024/03/mixed-annual-perennial-border-garden-bed.jpg_s1024x1024wisk20cLU1FH9lzfHLzVt5.jpg
END:VEVENT
BEGIN:VEVENT
DTSTART;TZID=America/Chicago:20240310T080000
DTEND;TZID=America/Chicago:20240310T110000
DTSTAMP:20260420T083135
CREATED:20240215T154813Z
LAST-MODIFIED:20240215T154813Z
UID:1656-1710057600-1710068400@www.mchenryalano.com
SUMMARY:Breakfast at the MAC
DESCRIPTION:
URL:https://www.mchenryalano.com/event/breakfast-at-the-mac-5/
LOCATION:McHenry Alano Club\, 409 Front St\, McHenry\, IL\, 60050\, United States
CATEGORIES:Fundraiser
ATTACH;FMTTYPE=image/jpeg:https://www.mchenryalano.com/wp-content/uploads/2022/11/breakfast-at-the-mac-1.jpg
END:VEVENT
BEGIN:VEVENT
DTSTART;TZID=America/Chicago:20240420T110000
DTEND;TZID=America/Chicago:20240420T140000
DTSTAMP:20260420T083135
CREATED:20240326T131827Z
LAST-MODIFIED:20240326T131827Z
UID:1662-1713610800-1713621600@www.mchenryalano.com
SUMMARY:Spring Cleaning - April 20\, 2024
DESCRIPTION:Come help us with our Annual Spring Cleaning at the MAC on April 20th at 11am! We will be providing coffee and donuts!!
URL:https://www.mchenryalano.com/event/spring-cleaning-april-20-2024/
LOCATION:McHenry Alano Club\, 409 Front St\, McHenry\, IL\, 60050\, United States
CATEGORIES:Event
ATTACH;FMTTYPE=image/jpeg:https://www.mchenryalano.com/wp-content/uploads/2023/03/spring-cleaning.jpg
END:VEVENT
BEGIN:VEVENT
DTSTART;TZID=America/Chicago:20240310T080000
DTEND;TZID=America/Chicago:20240310T110000
DTSTAMP:20260420T083135
CREATED:20240215T154813Z
LAST-MODIFIED:20240215T154813Z
UID:1656-1710057600-1710068400@www.mchenryalano.com
SUMMARY:Breakfast at the MAC
DESCRIPTION:
URL:https://www.mchenryalano.com/event/breakfast-at-the-mac-5/
LOCATION:McHenry Alano Club\, 409 Front St\, McHenry\, IL\, 60050\, United States
CATEGORIES:Fundraiser
ATTACH;FMTTYPE=image/jpeg:https://www.mchenryalano.com/wp-content/uploads/2022/11/breakfast-at-the-mac-1.jpg
END:VEVENT
BEGIN:VEVENT
DTSTART;TZID=America/Chicago:20240310T080000
DTEND;TZID=America/Chicago:20240310T110000
DTSTAMP:20260420T083135
CREATED:20240215T154813Z
LAST-MODIFIED:20240215T154813Z
UID:1656-1710057600-1710068400@www.mchenryalano.com
SUMMARY:Breakfast at the MAC
DESCRIPTION:
URL:https://www.mchenryalano.com/event/breakfast-at-the-mac-5/
LOCATION:McHenry Alano Club\, 409 Front St\, McHenry\, IL\, 60050\, United States
CATEGORIES:Fundraiser
ATTACH;FMTTYPE=image/jpeg:https://www.mchenryalano.com/wp-content/uploads/2022/11/breakfast-at-the-mac-1.jpg
END:VEVENT
BEGIN:VEVENT
DTSTART;TZID=America/Chicago:20240211T160000
DTEND;TZID=America/Chicago:20240211T210000
DTSTAMP:20260420T083135
CREATED:20240111T181641Z
LAST-MODIFIED:20240111T181641Z
UID:1647-1707667200-1707685200@www.mchenryalano.com
SUMMARY:Super Bowl at the MAC - February 11\, 2024
DESCRIPTION:
URL:https://www.mchenryalano.com/event/super-bowl-at-the-mac-february-11-2024/
LOCATION:McHenry Alano Club\, 409 Front St\, McHenry\, IL\, 60050\, United States
CATEGORIES:Event
ATTACH;FMTTYPE=image/jpeg:https://www.mchenryalano.com/wp-content/uploads/2023/01/superbowl-2023-mac.jpg
END:VEVENT
BEGIN:VEVENT
DTSTART;TZID=America/Chicago:20240114T080000
DTEND;TZID=America/Chicago:20240114T110000
DTSTAMP:20260420T083135
CREATED:20240215T153004Z
LAST-MODIFIED:20240215T153004Z
UID:1655-1705219200-1705230000@www.mchenryalano.com
SUMMARY:Breakfast at the MAC
DESCRIPTION:
URL:https://www.mchenryalano.com/event/breakfast-at-the-mac-4-2/
LOCATION:McHenry Alano Club\, 409 Front St\, McHenry\, IL\, 60050\, United States
CATEGORIES:Fundraiser
ATTACH;FMTTYPE=image/jpeg:https://www.mchenryalano.com/wp-content/uploads/2022/11/breakfast-at-the-mac-1.jpg
END:VEVENT
BEGIN:VEVENT
DTSTART;TZID=America/Chicago:20240111T180000
DTEND;TZID=America/Chicago:20240111T190000
DTSTAMP:20260420T083135
CREATED:20240111T182051Z
LAST-MODIFIED:20240111T182051Z
UID:1650-1704996000-1704999600@www.mchenryalano.com
SUMMARY:Semi-Annual Board Meeting
DESCRIPTION:
URL:https://www.mchenryalano.com/event/semi-annual-board-meeting/
LOCATION:McHenry Alano Club\, 409 Front St\, McHenry\, IL\, 60050\, United States
CATEGORIES:Event
ATTACH;FMTTYPE=image/jpeg:https://www.mchenryalano.com/wp-content/uploads/2024/01/Semi-Annual-Mtg-Notice-January-2024.jpg
END:VEVENT
BEGIN:VEVENT
DTSTART;TZID=America/Chicago:20231231T170000
DTEND;TZID=America/Chicago:20240101T020000
DTSTAMP:20260420T083135
CREATED:20231114T232548Z
LAST-MODIFIED:20231114T232808Z
UID:1634-1704042000-1704074400@www.mchenryalano.com
SUMMARY:New Year's Eve Party and Alcathon - December 31\, 2023
DESCRIPTION:
URL:https://www.mchenryalano.com/event/new-years-eve-party-and-alcathon-december-31-2023/
LOCATION:McHenry Alano Club\, 409 Front St\, McHenry\, IL\, 60050\, United States
CATEGORIES:Event
ATTACH;FMTTYPE=image/jpeg:https://www.mchenryalano.com/wp-content/uploads/2023/11/Copy-of-2023-new-years-eve-party-mac-300-x-300-px.jpg
END:VEVENT
BEGIN:VEVENT
DTSTART;TZID=America/Chicago:20231210T120000
DTEND;TZID=America/Chicago:20231210T170000
DTSTAMP:20260420T083135
CREATED:20231109T154706Z
LAST-MODIFIED:20231204T162544Z
UID:1632-1702209600-1702227600@www.mchenryalano.com
SUMMARY:Chili Cook Off Tailgate Party – December 10\, 2023
DESCRIPTION:
URL:https://www.mchenryalano.com/event/chile-cook-off-tailgate-party-december-10-2023/
LOCATION:McHenry Alano Club\, 409 Front St\, McHenry\, IL\, 60050\, United States
CATEGORIES:Event
ATTACH;FMTTYPE=image/jpeg:https://www.mchenryalano.com/wp-content/uploads/2023/11/Chili-Cook-off-Tailgate-Flyer-2023.jpg
END:VEVENT
BEGIN:VEVENT
DTSTART;TZID=America/Chicago:20231008T080000
DTEND;TZID=America/Chicago:20231008T110000
DTSTAMP:20260420T083135
CREATED:20230925T161341Z
LAST-MODIFIED:20230925T161341Z
UID:1627-1696752000-1696762800@www.mchenryalano.com
SUMMARY:Breakfast at the MAC
DESCRIPTION:
URL:https://www.mchenryalano.com/event/breakfast-at-the-mac-3/
LOCATION:McHenry Alano Club\, 409 Front St\, McHenry\, IL\, 60050\, United States
CATEGORIES:Fundraiser
ATTACH;FMTTYPE=image/jpeg:https://www.mchenryalano.com/wp-content/uploads/2022/11/breakfast-at-the-mac-1.jpg
END:VEVENT
BEGIN:VEVENT
DTSTART;TZID=America/Chicago:20231008T080000
DTEND;TZID=America/Chicago:20231008T110000
DTSTAMP:20260420T083135
CREATED:20230925T161341Z
LAST-MODIFIED:20230925T161341Z
UID:1627-1696752000-1696762800@www.mchenryalano.com
SUMMARY:Breakfast at the MAC
DESCRIPTION:
URL:https://www.mchenryalano.com/event/breakfast-at-the-mac-3/
LOCATION:McHenry Alano Club\, 409 Front St\, McHenry\, IL\, 60050\, United States
CATEGORIES:Fundraiser
ATTACH;FMTTYPE=image/jpeg:https://www.mchenryalano.com/wp-content/uploads/2022/11/breakfast-at-the-mac-1.jpg
END:VEVENT
END:VCALENDAR